BEGIN:VCALENDAR
VERSION:2.0
PRODID:-//Tukios.com/
BEGIN:VEVENT
UID:3db4037e-0d02-4046-ba36-a6299cdcd0d3@www.schmidtfamilyfh.com
DTSTAMP:20260422T030841Z
DTSTART:20260502T150000Z
DTEND:20260502T160000Z
SUMMARY:Family Present for visitation
DESCRIPTION:
URL:https://www.schmidtfamilyfh.com/obituaries/patti-wilson
LOCATION:Schmidt Family Funeral Home - Exira 234 West South Street  Exira 
	IA 50076
GEO:41.5879279;-94.8823136
END:VEVENT
END:VCALENDAR