BEGIN:VCALENDAR
VERSION:2.0
PRODID:-//Tukios.com/
BEGIN:VEVENT
UID:54ac934f-7d6b-4916-81c1-94fcaa0e5a3f@www.schmidtfamilyfh.com
DTSTAMP:20260422T030841Z
DTSTART:20260502T160000Z
DTEND:20260502T170000Z
SUMMARY:Celebration of Life
DESCRIPTION:
URL:https://www.schmidtfamilyfh.com/obituaries/patti-wilson
LOCATION:Schmidt Family Funeral Home - Exira 234 West South Street  Exira 
	IA 50076
GEO:41.5879279;-94.8823136
END:VEVENT
END:VCALENDAR